BEGIN:VCALENDAR
VERSION:2.0
PRODID:-//SSV Calmbach 1960 e.V.//NONSGML kigkonsult.se iCalcreator 2.30.10
 //
CALSCALE:GREGORIAN
METHOD:PUBLISH
UID:73fd65f0-b0bc-403e-995f-f58874c5976b
X-WR-CALNAME:iCagenda
X-WR-CALDESC:Event Management Extension for Joomla!
X-WR-RELCALID:3E26604A-50F4-4449-8B3E-E4F4932D05B5
X-WR-TIMEZONE:UTC
BEGIN:VTIMEZONE
TZID:UTC
END:VTIMEZONE
BEGIN:VEVENT
UID:027950b4-d899-454f-8b6d-cf9be2ce36a2
DTSTAMP:20260422T172857Z
CATEGORIES:Wettbewerb
CLASS:PUBLIC
DESCRIPTION:
DTSTART:20251011T143000Z
DTEND:20251011T180000Z
GEO:+48.75745;+8.60043
LOCATION:Schützenhaus Calmbach
ORGANIZER;CN=:info@ssv-calmbach.de
SEQUENCE:1
SUMMARY:Königschießen
TRANSP:OPAQUE
URL:http://www.ssv-calmbach.de/index.php/component/icagenda/11-koenigschies
 sen-2?Itemid=101
END:VEVENT
END:VCALENDAR
