BEGIN:VCALENDAR
VERSION:2.0
PRODID:-//SSV Calmbach 1960 e.V.//NONSGML kigkonsult.se iCalcreator 2.30.10
 //
CALSCALE:GREGORIAN
METHOD:PUBLISH
UID:15fc4ccb-b7ce-437f-95d4-384f9eb80558
X-WR-CALNAME:iCagenda
X-WR-CALDESC:Event Management Extension for Joomla!
X-WR-RELCALID:3E26604A-50F4-4449-8B3E-E4F4932D05B5
X-WR-TIMEZONE:UTC
BEGIN:VTIMEZONE
TZID:UTC
END:VTIMEZONE
BEGIN:VEVENT
UID:f00e4270-3386-4644-a409-27a565ff210f
DTSTAMP:20260424T123037Z
CATEGORIES:Arbeitseinsatz
CLASS:PUBLIC
DESCRIPTION;ALTREP="CID:<FFFF__=0ABBE548DFE235B58f9e8a93d@coffeebean.com>":
 Der angegebene Termin ist bislang nur fiktiv\, da der genaue Tag noch nich
 t feststeht!\n* An dieser Veranstaltung können Pflichtarbeitsstunden gelei
 stet werden!
DTSTART:20250901T120000Z
DTEND:20250930T180000Z
GEO:+48.75745;+8.60043
LOCATION:Schützenhaus Calmbach
ORGANIZER;CN=:info@ssv-calmbach.de
SEQUENCE:1
SUMMARY:Arbeitseinsatz rund um Schützenhaus und Bogenplatz*
TRANSP:OPAQUE
URL:http://www.ssv-calmbach.de/index.php/component/icagenda/6-arbeitseinsat
 z-rund-um-schuetzenhaus-und-bogenplatz-3?Itemid=101
END:VEVENT
END:VCALENDAR
